BEGIN:VCALENDAR
VERSION:2.0
PRODID:-//Para-Club VS - ECPv6.5.0//NONSGML v1.0//EN
CALSCALE:GREGORIAN
METHOD:PUBLISH
X-WR-CALNAME:Para-Club VS
X-ORIGINAL-URL:https://www.para-club.de
X-WR-CALDESC:Veranstaltungen für Para-Club VS
REFRESH-INTERVAL;VALUE=DURATION:PT1H
X-Robots-Tag:noindex
X-PUBLISHED-TTL:PT1H
BEGIN:VTIMEZONE
TZID:Europe/Berlin
BEGIN:DAYLIGHT
TZOFFSETFROM:+0100
TZOFFSETTO:+0200
TZNAME:CEST
DTSTART:20240331T010000
END:DAYLIGHT
BEGIN:STANDARD
TZOFFSETFROM:+0200
TZOFFSETTO:+0100
TZNAME:CET
DTSTART:20241027T010000
END:STANDARD
BEGIN:DAYLIGHT
TZOFFSETFROM:+0100
TZOFFSETTO:+0200
TZNAME:CEST
DTSTART:20250330T010000
END:DAYLIGHT
BEGIN:STANDARD
TZOFFSETFROM:+0200
TZOFFSETTO:+0100
TZNAME:CET
DTSTART:20251026T010000
END:STANDARD
END:VTIMEZONE
BEGIN:VEVENT
DTSTART;VALUE=DATE:20250927
DTEND;VALUE=DATE:20250929
DTSTAMP:20260421T110740
CREATED:20240902T093414Z
LAST-MODIFIED:20250803T164728Z
UID:3035-1758931200-1759103999@www.para-club.de
SUMMARY:Schnupperkurs
DESCRIPTION:Der Schnupperkurs vermittelt die Fertigkeiten\, einen Fallschirmabsprung mit automatischer Auslösung aus ca. 1.200m über Grund zu absolvieren. \nDieser Kurs ist der ideale Einstieg in die Ausbildung zum Fallschirmspringer\, auf ihm bauen alle weiteren Ausbildungsschritte auf.
URL:https://www.para-club.de/event/schnupperkurs-6/
ATTACH;FMTTYPE=image/webp:https://www.para-club.de/wp-content/uploads/2024/05/Schnupperkurs.webp
END:VEVENT
BEGIN:VEVENT
DTSTART;VALUE=DATE:20250816
DTEND;VALUE=DATE:20250818
DTSTAMP:20260421T110740
CREATED:20240613T200536Z
LAST-MODIFIED:20250803T164921Z
UID:2930-1755302400-1755475199@www.para-club.de
SUMMARY:Schnupperkurs
DESCRIPTION:Der Schnupperkurs vermittelt die Fertigkeiten\, einen Fallschirmabsprung mit automatischer Auslösung aus ca. 1.200m über Grund zu absolvieren. \nDieser Kurs ist der ideale Einstieg in die Ausbildung zum Fallschirmspringer\, auf ihm bauen alle weiteren Ausbildungsschritte auf.
URL:https://www.para-club.de/event/schnupperkurs-4/
LOCATION:Flugplatz Schwenningen\, Spittelbronner Weg 62\, Villingen-Schwenningen\, 78056
ATTACH;FMTTYPE=image/webp:https://www.para-club.de/wp-content/uploads/2024/05/Schnupperkurs.webp
END:VEVENT
BEGIN:VEVENT
DTSTART;TZID=Europe/Berlin:20250201T080000
DTEND;TZID=Europe/Berlin:20250228T170000
DTSTAMP:20260421T110740
CREATED:20240906T102802Z
LAST-MODIFIED:20240906T102802Z
UID:3051-1738396800-1740762000@www.para-club.de
SUMMARY:Winter-Skydive
DESCRIPTION:*Vorankündigung: \nBist du Winterfest? Teste es bei unserem Winter-Event mit einem erfrischendem Hop-Pop aus 1500 Metern oder dem eintauchen in eine Winterlandschaft aus 3000 Metern. \nIn unserem Vereinsheim findet Ihr danach die Möglichkeit wieder aufzutauen\, bei einem warmen Essen und heißen Getränk. \nAktuell sind noch keine genauen Termine eingeplant\, falls du über die Termine informiert werden möchtest\, dann schreib uns eine Email an info@para-club.de mit dem Betreff „Winter-Skydive“ und hinterlasse uns am besten deine Telefonnummer. \nWir frieren mit euch und freuen uns auf euch. \nBlue Skies
URL:https://www.para-club.de/event/winter-skydive-2/
ATTACH;FMTTYPE=image/jpeg:https://www.para-club.de/wp-content/uploads/2024/09/Winter-Skydive.jpg
END:VEVENT
BEGIN:VEVENT
DTSTART;TZID=Europe/Berlin:20250101T080000
DTEND;TZID=Europe/Berlin:20250131T170000
DTSTAMP:20260421T110740
CREATED:20240906T102707Z
LAST-MODIFIED:20240906T102707Z
UID:3049-1735718400-1738342800@www.para-club.de
SUMMARY:Winter-Skydive
DESCRIPTION:*Vorankündigung: \nBist du Winterfest? Teste es bei unserem Winter-Event mit einem erfrischendem Hop-Pop aus 1500 Metern oder dem eintauchen in eine Winterlandschaft aus 3000 Metern. \nIn unserem Vereinsheim findet Ihr danach die Möglichkeit wieder aufzutauen\, bei einem warmen Essen und heißen Getränk. \nAktuell sind noch keine genauen Termine eingeplant\, falls du über die Termine informiert werden möchtest\, dann schreib uns eine Email an info@para-club.de mit dem Betreff „Winter-Skydive“ und hinterlasse uns am besten deine Telefonnummer. \nWir frieren mit euch und freuen uns auf euch. \nBlue Skies
URL:https://www.para-club.de/event/winter-skydive/
ATTACH;FMTTYPE=image/jpeg:https://www.para-club.de/wp-content/uploads/2024/09/Winter-Skydive.jpg
END:VEVENT
BEGIN:VEVENT
DTSTART;VALUE=DATE:20241201
DTEND;VALUE=DATE:20250101
DTSTAMP:20260421T110740
CREATED:20240906T102535Z
LAST-MODIFIED:20240906T102535Z
UID:3045-1733011200-1735689599@www.para-club.de
SUMMARY:Winter-Sykdive
DESCRIPTION:*Vorankündigung: \nBist du Winterfest? Teste es bei unserem Winter-Event mit einem erfrischendem Hop-Pop aus 1500 Metern oder dem eintauchen in eine Winterlandschaft aus 3000 Metern. \nIn unserem Vereinsheim findet Ihr danach die Möglichkeit wieder aufzutauen\, bei einem warmen Essen und heißen Getränk. \nAktuell sind noch keine genauen Termine eingeplant\, falls du über die Termine informiert werden möchtest\, dann schreib uns eine Email an info@para-club.de mit dem Betreff „Winter-Skydive“ und hinterlasse uns am besten deine Telefonnummer. \nWir frieren mit euch und freuen uns auf euch. \nBlue Skies
URL:https://www.para-club.de/event/winter-sykdive/
LOCATION:Flugplatz Schwenningen\, Spittelbronner Weg 62\, Villingen-Schwenningen\, 78056
ATTACH;FMTTYPE=image/jpeg:https://www.para-club.de/wp-content/uploads/2024/09/Winter-Skydive.jpg
END:VEVENT
BEGIN:VEVENT
DTSTART;VALUE=DATE:20240928
DTEND;VALUE=DATE:20240929
DTSTAMP:20260421T110740
CREATED:20240902T094356Z
LAST-MODIFIED:20240926T082832Z
UID:3037-1727481600-1727567999@www.para-club.de
SUMMARY:Club-Meisterschaft 2024
DESCRIPTION:Vereinsinterne Veranstaltung \n\nDrei Wertungssprünge im Zielspringen aus 1500m.\nEine Fun-Disziplin mit Zeitmessung.\n\nAgenda: \n\nTreffpunkt ist 9 Uhr im Vereinsheim\nErster Load startet um 10 Uhr\n\nBei tiefen Wolken\, springen wir unterhalb der Wolkendecke\n\n\n18 Uhr Siegerehrung\nAnschließend Grillen wir am Vereinsheim\n\nBitte Grillgut selber mitbringen\n\n\nNebenveranstaltung: ab 20:30 Uhr Autorennen auf der Start- Landebahn vom ADAC
URL:https://www.para-club.de/event/club-meisterschaft-2024/
ATTACH;FMTTYPE=image/jpeg:https://www.para-club.de/wp-content/uploads/2024/09/Zielspringen.jpg
END:VEVENT
BEGIN:VEVENT
DTSTART;VALUE=DATE:20240921
DTEND;VALUE=DATE:20240923
DTSTAMP:20260421T110740
CREATED:20240902T093235Z
LAST-MODIFIED:20240902T093235Z
UID:3033-1726876800-1727049599@www.para-club.de
SUMMARY:Schnupperkurs
DESCRIPTION:Der Schnupperkurs vermittelt die Fertigkeiten\, einen Fallschirmabsprung mit automatischer Auslösung aus ca. 1.200m über Grund zu absolvieren. \nDieser Kurs ist der ideale Einstieg in die Ausbildung zum Fallschirmspringer\, auf ihm bauen alle weiteren Ausbildungsschritte auf.
URL:https://www.para-club.de/event/schnupperkurs-5/
ATTACH;FMTTYPE=image/webp:https://www.para-club.de/wp-content/uploads/2024/05/Schnupperkurs.webp
END:VEVENT
BEGIN:VEVENT
DTSTART;TZID=Europe/Berlin:20240908T100000
DTEND;TZID=Europe/Berlin:20240908T180000
DTSTAMP:20260421T110740
CREATED:20240613T151620Z
LAST-MODIFIED:20240613T151716Z
UID:2925-1725789600-1725818400@www.para-club.de
SUMMARY:Flugplatzfest *Save the date*
DESCRIPTION:Der Termin für das diesjährige Flugplatzfest steht\, am 8.September ist es wieder soweit! \nDieses Jahr haben wir Fallschirmspringer wieder einen Infostand und beantworten euch alle Fragen\, die euch zum Sport interessieren. \nWer den Nervenkitzel direkt spüren möchte\, kann am Flugplatzfest einen Tandemsprung machen. \n*Einzelheiten zum Programm folgenVorschau der Änderungen (öffnet in neuem Tab) \nSeid dabei und sichert euch den Tag im Kalender.
URL:https://www.para-club.de/event/flugplatzfest-save-the-date/
LOCATION:Flugplatz Schwenningen\, Spittelbronner Weg 62\, Villingen-Schwenningen\, 78056
ATTACH;FMTTYPE=image/jpeg:https://www.para-club.de/wp-content/uploads/2024/06/Flugplatzfest-Schwenningen.jpg
END:VEVENT
BEGIN:VEVENT
DTSTART;VALUE=DATE:20240713
DTEND;VALUE=DATE:20240715
DTSTAMP:20260421T110740
CREATED:20240613T134620Z
LAST-MODIFIED:20240613T200631Z
UID:2923-1720828800-1721001599@www.para-club.de
SUMMARY:Schnupperkurs
DESCRIPTION:Der Schnupperkurs vermittelt die Fertigkeiten\, einen Fallschirmabsprung mit automatischer Auslösung aus ca. 1.200m über Grund zu absolvieren. \nDieser Kurs ist der ideale Einstieg in die Ausbildung zum Fallschirmspringer\, auf ihm bauen alle weiteren Ausbildungsschritte auf.
URL:https://www.para-club.de/event/schnupperkurs-3/
LOCATION:Flugplatz Schwenningen\, Spittelbronner Weg 62\, Villingen-Schwenningen\, 78056
ATTACH;FMTTYPE=image/webp:https://www.para-club.de/wp-content/uploads/2024/05/Schnupperkurs.webp
END:VEVENT
BEGIN:VEVENT
DTSTART;VALUE=DATE:20240615
DTEND;VALUE=DATE:20240617
DTSTAMP:20260421T110740
CREATED:20240515T192313Z
LAST-MODIFIED:20240515T235950Z
UID:2868-1718409600-1718582399@www.para-club.de
SUMMARY:Schnupperkurs
DESCRIPTION:Der Schnupperkurs vermittelt die Fertigkeiten\, einen Fallschirmabsprung mit automatischer Auslösung aus ca. 1.200m über Grund zu absolvieren. \nDieser Kurs ist der ideale Einstieg in die Ausbildung zum Fallschirmspringer\, auf ihm bauen alle weiteren Ausbildungsschritte auf.
URL:https://www.para-club.de/event/schnupperkurs/
LOCATION:Flugplatz Schwenningen\, Spittelbronner Weg 62\, Villingen-Schwenningen\, 78056
ATTACH;FMTTYPE=image/webp:https://www.para-club.de/wp-content/uploads/2024/05/Schnupperkurs.webp
END:VEVENT
BEGIN:VEVENT
DTSTART;VALUE=DATE:20240525
DTEND;VALUE=DATE:20240527
DTSTAMP:20260421T110740
CREATED:20240515T192339Z
LAST-MODIFIED:20240515T235903Z
UID:2864-1716595200-1716767999@www.para-club.de
SUMMARY:Schnupperkurs
DESCRIPTION:Der Schnupperkurs vermittelt die Fertigkeiten\, einen Fallschirmabsprung mit automatischer Auslösung aus ca. 1.200m über Grund zu absolvieren. \nDieser Kurs ist der ideale Einstieg in die Ausbildung zum Fallschirmspringer\, auf ihm bauen alle weiteren Ausbildungsschritte auf.
URL:https://www.para-club.de/event/schnupperkurs-2/
LOCATION:Flugplatz Schwenningen\, Spittelbronner Weg 62\, Villingen-Schwenningen\, 78056
ATTACH;FMTTYPE=image/webp:https://www.para-club.de/wp-content/uploads/2024/05/Schnupperkurs.webp
END:VEVENT
END:VCALENDAR